Workbook

Sheet Özet Panel
A1: ORTAKÖY MYO – KURUMSAL PERFORMANS PANELİ | 2025–2026
A2: Bu panel dört stratejik başlık altındaki faaliyetlerin sayısal özetini sunmaktadır.
A4: EĞİTİM VE ÖĞRETİM
A5: Düzenlenen Etkinlik Sayısı | G5: =COUNTA('1. Eğitim-Öğretim'!B5:B17) -> 13
A6: Toplam Katılan Öğrenci | G6: ='1. Eğitim-Öğretim'!F20 -> 1640
A7: Öğrenci Memnuniyet Ort. (%) | G7: =ROUND('1. Eğitim-Öğretim'!G20,1) -> 96
A8: Tamamlanan Ders Sayısı | G8: =COUNTA('1. Eğitim-Öğretim'!B28:B59) -> 32
A9: Genel Geçme Oranı (%) | G9: =ROUND(AVERAGE('1. Eğitim-Öğretim'!I24:I59),1) -> 90.3
A11: ARAŞTIRMA VE GELİŞTİRME
A12: Toplam Yayın Sayısı | G12: =COUNTA('2. Araştırma-Geliştirme'!A5:A11) -> 7
A13: Aktif Proje Sayısı | G13: =COUNTA('2. Araştırma-Geliştirme'!A16:A17) -> 0
A14: TÜBİTAK Projesi | G14: 1
A15: Toplam Proje Bütçesi (₺) | G15: =SUM('2. Araştırma-Geliştirme'!G16:G17) -> 0
A16: Uluslararası İşbirliği | G16: =COUNTIF(#REF!,"Prof*")+COUNTIF(#REF!,"Dr.*") -> #REF!
A18: TOPLUMSAL KATKI
A19: Düzenlenen Etkinlik / Faaliyet | G19: =COUNTA('3. Toplumsal Katkı'!A5:A8) -> 4
A20: Toplam Katılımcı | G20: =SUM('3. Toplumsal Katkı'!G5:G8) -> 44
A21: Aktif Sanayi İşbirliği Protokolü | G21: =COUNTIF('3. Toplumsal Katkı'!I15,"Aktif") -> 0
A22: Staj Öğrenci Sayısı | G22: =SUM('3. Toplumsal Katkı'!G15) -> 0
A23: İstihdam Edilen Mezun | G23: =SUM('3. Toplumsal Katkı'!H15) -> 0
A25: YÖNETİŞİM
A26: Kalite / Akreditasyon Faaliyeti | G26: =COUNTA('4. Yönetişim'!A5:A9) -> 2
A27: Personel Eğitim Katılımı (kişi) | G27: =COUNTA('4. Yönetişim'!A13:A14) -> 2
A28: Kişi Başı Eğitim Saati | G28: =SUM('4. Yönetişim'!E13:E14) -> 22
A29: Öğrenci Memnuniyeti (%) | G29: ='4. Yönetişim'!E18 -> 0
A30: İşveren Memnuniyeti (%) | G30: ='4. Yönetişim'!E19 -> 0

Sheet 1. Eğitim-Öğretim
A1: ORTAKÖY MYO – 1. EĞITIM-ÖĞRETIM FAALİYET TABLOSU | 2025–2026
A2: Akademik Yıl: 2025–2026 | Ortaköy Meslek Yüksekokulu
A3: A. ETKİNLİK VE ÖĞRENİM DENEYİMİ
A4: Bölüm / Program | B4: Etkinlik Adı | C4: Etkinlik Türü | D4: Sorumlu Öğretim Elemanı | E4: Tarih | F4: Katılan Öğrenci | G4: Memnuniyet (%) | H4: Paydaş / İşbirliği | I4: Çıktı / Not
A5: Mülkiyet Koruma ve Güvenlik/Sosyal Güvenlik | B5: Oryantasyon | C5: Eğitim | D5: Öğr. Gör. Dr. Zekeriya ÖZKAN | E5: 45932 | F5: 100 | I5: Bilgilendirme
A6: Mülkiyet Koruma ve Güvenlik/Sosyal Güvenlik | B6: Danışmanlık Toplantıları | C6: Seminer | D6: Danışmanlar | E6: 45946 | F6: 190 | I6: Bilgilendirme
A7: Mülkiyet Koruma ve Güvenlik/Sosyal Güvenlik | B7: AFAD Konferansı | C7: Konferans | D7: Öğr. Gör. Dr. Zekeriya ÖZKAN | E7: 45972 | F7: 160 | H7: AFAD İl Müdürlüğü | I7: Afet Farkındalık
A8: Mülkiyet Koruma ve Güvenlik/Sosyal Güvenlik | B8: Kadına Şiddet | C8: Konferans | D8: Öğr. Gör. Dr. Zekeriya ÖZKAN | E8: 45974 | F8: 180 | H8: Ortaköy ASB | I8: Şiddet Farkındalığı
A9: Mülkiyet Koruma ve Güvenlik/Sosyal Güvenlik | B9: Danışmanlık Toplantıları | C9: Seminer | D9: Danışmanlar | E9: 45965 | F9: 195 | I9: Bilgilendirme
A10: Mülkiyet Koruma ve Güvenlik/Sosyal Güvenlik | B10: Danışmanlık Toplantıları | C10: Seminer | D10: Danışmanlar | E10: 46079 | F10: 190 | I10: Bilgilendirme
A11: Mülkiyet Koruma ve Güvenlik/Sosyal Güvenlik | B11: AFAD Konferansı | C11: Konferans | D11: Öğr. Gör. Dr. Zekeriya ÖZKAN | E11: 46114 | F11: 170 | H11: AFAD İl Müdürlüğü | I11: AFAD Gönüllüğü
A12: Mülkiyet Koruma ve Güvenlik/Sosyal Güvenlik | B12: İL SGK Ziyareti | C12: Müfredata Ders Ekleme/Öneri Ziyartei | D12: Öğr. Gör. Dr. Zekeriya ÖZKAN | E12: 46134 | F12: 1 | H12: Aksaray SGK | I12: Müfredat Hakında Görüş Alışverişi
A13: Mülkiyet Koruma ve Güvenlik/Sosyal Güvenlik | B13: Ankara Gezisi | C13: Teknik Gezi | D13: Öğr. Gör. Dr. Zekeriya ÖZKAN Öğr. Gör. Demet BARAN | E13: 46150 | F13: 46 | G13: 96 | H13: TBMM | I13: Tarih ve Kültür Gezisi
A14: Mülkiyet Koruma ve Güvenlik/Sosyal Güvenlik | B14: Sosyal Güvenlik Haftası | C14: Konferans | D14: Öğr. Gör. Dr. Zekeriya ÖZKAN | E14: 46154 | F14: 180 | H14: Aksaray SGK | I14: Sosyal Güvenlik Farkındalığı
A15: Mülkiyet Koruma ve Güvenlik/Sosyal Güvenlik | B15: Öğrenci görüşmesi | C15: Bilgilendirme, Öğrenci sorunlarını dinleme | D15: Bölüm öğretim elemanları | E15: 45947 | F15: 63 | H15: D-302 | I15: Sorun dinleme
A16: Mülkiyet Koruma ve Güvenlik/Sosyal Güvenlik | B16: Öğrenci görüşmesi | C16: Bilgilendirme, Öğrenci sorunlarını dinleme | D16: Bölüm öğretim elemanları | E16: 46086 | F16: 85 | H16: D-302 | I16: Sorun dinleme
A17: Mülkiyet Koruma ve Güvenlik/Sosyal Güvenlik | B17: Öğrenci görüşmesi | C17: Bilgilendirme, Öğrenci sorunlarını dinleme | D17: Bölüm öğretim elemanları | E17: 46149 | F17: 80 | H17: D-302 | I17: Sorun dinleme
A20: TOPLAM / ORTALAMA | F20: =SUM(F5:F17) -> 1640 | G20: =AVERAGE(G5:G15) -> 96
A22: B. DERS BAŞARI GÖSTERGELERİ
A23: Bölüm / Program | B23: Ders Kodu | C23: Ders Adı | D23: Öğretim Elemanı | E23: Kayıtlı | F23: Sınava Giren | G23: Geçen | H23: Kalan | I23: Geçme Oranı (%) | J23: Bütünleme (kişi) | K23: Devamsız (Kişi) | L23: Memnuniyet (/5) | M23: Dönem
A24: Mülkiyet Koruma ve Güvenlik/Sosyal Güvenlik | B24: BİL 181 | C24: Temel Bilgisayar Bilimleri | D24: Öğr. Gör. Adem İĞDE | E24: 107 | F24: 107 | G24: 81 | H24: 26 | I24: =G24/F24*100 -> 75.700935 | J24: 28 | K24: 21 | L24: 4.32 | M24: 2025–26 Güz
A25: Mülkiyet Koruma ve Güvenlik/Sosyal Güvenlik | B25: SGÜ 101 | C25: HUKUKUN TEMEL KAVRAMLARI | D25: Öğr.Gör. MEHMET AKİF DENİZ | E25: 108 | F25: 108 | G25: 80 | H25: 28 | I25: =G25/F25*100 -> 74.074074 | J25: 76 | K25: 0 | L25: 4.5 | M25: 2025–26 Güz
A26: Mülkiyet Koruma ve Güvenlik/Sosyal Güvenlik | B26: SGÜ 103 | C26: GENEL MUHASEBE | D26: Öğr.Gör.Dr. SAİT PEKİN | E26: 102 | F26: 102 | G26: 67 | H26: 35 | I26: =G26/F26*100 -> 65.686275 | J26: 37 | K26: 20 | L26: 4.28 | M26: 2025–26 Güz
A27: Mülkiyet Koruma ve Güvenlik/Sosyal Güvenlik | B27: SGÜ 105 | C27: SOSYAL GÜVENLİĞE GİRİŞ | D27: Öğr.Gör. DEMET BARAN | E27: 112 | F27: 112 | G27: 67 | H27: 45 | I27: =G27/F27*100 -> 59.821429 | J27: 24 | K27: 31 | L27: 4.36 | M27: 2025–26 Güz
A28: Mülkiyet Koruma ve Güvenlik/Sosyal Güvenlik | B28: SGÜ 107 | C28: GENEL İŞLETME | D28: Öğr.Gör. SEDA ÖZTÜRK EGE | E28: 102 | F28: 102 | G28: 76 | H28: 26 | I28: =G28/F28*100 -> 74.509804 | J28: 37 | K28: 20 | L28: 4.52 | M28: 2025–26 Güz
A29: Mülkiyet Koruma ve Güvenlik/Sosyal Güvenlik | B29: SGÜ 109 | C29: MATEMATİK | D29: Öğr.Gör.Dr. ZEKERİYA ÖZKAN | E29: 111 | F29: 111 | G29: 41 | H29: 70 | I29: =G29/F29*100 -> 36.936937 | J29: 61 | K29: 20 | L29: 4.52 | M29: 2025–26 Güz
A30: Mülkiyet Koruma ve Güvenlik/Sosyal Güvenlik | B30: SGÜ 111 | C30: İKTİSADA GİRİŞ | D30: Doç.Dr. M. HADİN ÖNER | E30: 106 | F30: 32 | G30: 31 | H30: 1 | I30: =G30/F30*100 -> 96.875 | J30: 33 | K30: 21 | L30: 4.63 | M30: 2025–26 Güz
A31: Mülkiyet Koruma ve Güvenlik/Sosyal Güvenlik | B31: SGÜ 205 | C31: İŞ-KUR UYGULAMALARI VE İŞSİZLİK SİGORTALARI | D31: Öğr.Gör.Dr. ZEKERİYA ÖZKAN | E31: 69 | F31: 69 | G31: 68 | H31: 1 | I31: =G31/F31*100 -> 98.550725 | J31: 2 | K31: 0 | L31: 4.5 | M31: 2025–26 Güz
A32: Mülkiyet Koruma ve Güvenlik/Sosyal Güvenlik | B32: SGÜ 207 | C32: SOSYAL GÜVENLİK KURUMU VE E-DEVLET | D32: Dr. Öğr. Üyesi ABDULLAH TURAN | E32: 77 | F32: 22 | G32: 58 | H32: 19 | I32: =G32/F32*100 -> 263.63636 | J32: 24 | K32: 0 | L32: 4.5 | M32: 2025–26 Güz
A33: Mülkiyet Koruma ve Güvenlik/Sosyal Güvenlik | B33: SGÜ 209 | C33: STAJ DEĞERLENDİRME | D33: Öğr.Gör.Dr. ZEKERİYA ÖZKAN | E33: 36 | F33: 36 | G33: 33 | H33: 3 | I33: =G33/F33*100 -> 91.666667 | J33: 0 | K33: 0 | L33: 4 | M33: 2025–26 Güz
A34: Mülkiyet Koruma ve Güvenlik/Sosyal Güvenlik | B34: SGÜ 209 | C34: STAJ DEĞERLENDİRME | D34: Öğr.Gör. DEMET BARAN | E34: 30 | F34: 29 | G34: 29 | H34: 1 | I34: =G34/F34*100 -> 100 | J34: 0 | K34: 0 | L34: 48 | M34: 2025–26 Güz
A35: Mülkiyet Koruma ve Güvenlik/Sosyal Güvenlik | B35: SGÜ 219 | C35: VERGİ HUKUKU | D35: Öğr.Gör. FERHAT ATEŞ | E35: 43 | F35: 41 | G35: 41 | H35: 2 | I35: =G35/F35*100 -> 100 | J35: 0 | K35: 2 | L35: 4.7 | M35: 2025–26 Güz
... A59: Mülkiyet Koruma ve Güvenlik/Sosyal Güvenlik | B59: SGÜ 236 | C59: FİNANSAL YÖNETİM | D59: Doç.Dr. M. HADİN ÖNER | E59: 35 | F59: 35 | G59: 35 | H59: 0 | I59: =G59/F59*100 -> 100 | J59: 0 | K59: 0 | L59: 4.72 | M59: 2025–26 Bahar

Sheet 2. Araştırma-Geliştirme
A1: ORTAKÖY MYO – 2. ARAŞTIRMA-GELIŞTIRME FAALİYET TABLOSU | 2025–2026
A2: Akademik Yıl: 2025–2026 | Ortaköy Meslek Yüksekokulu
A3: A. AKADEMİK YAYINLAR
A4: Öğretim Elemanı | B4: Yayın Türü | C4: Makale / Bildiri Adı | D4: Yayın Yeri | E4: Yıl | F4: İndeks | G4: Q Değeri | H4: Atıf Sayısı | I4: Ortak Yazar(lar)
A5: Doç. Dr. M. Hadin ÖNER | B5: Makale | C5: ESG and profitability in the global insurance industry | D5: Sustainability | E5: 2026 | F5: SSCI | G5: Q2 | H5: 1 | I5: ABDULLAH KILIÇARSLAN,ZEKİYE ÖRTLEK,MUSTAFA CİHAN YARALI
A6: Doç. Dr. M. Hadin ÖNER | B6: Makale | C6: The Impact of Sukuk Issuances on Liquidity, Profitability, and Asset Quality of Islamic Banks | D6: Research in International Business and Finance | E6: 2026 | F6: SSCI | G6: Q1 | H6: 6 | I6: MK Hassan, H Kazak, MH Öner, AT Akcan, OF Tekdogan
A7: Doç. Dr. M. Hadin ÖNER | B7: Makale | C7: Profitability and Tax Avoidance: Evidence from Islamic and Conventional Firms in OIC Countries | D7: Journal of the General Secretariat of Zakat, Tax and Customs Committees | E7: 2026 | F7: Uluslararası | G7: - | H7: 0 | I7: OF Tekdogan, MH Öner
A8: Doç. Dr. M. Hadin ÖNER | B8: Makale | C8: NMV Tabanlı TOPSIS Yöntemi ile İslam İşbirliği Teşkilatı Ülkelerinde İslami Bankaların Finansal Performans Analizi | D8: International Journal of Islamic Economics and Finance Studies | E8: 2025 | F8: TR DİZİN | G8: - | H8: 1 | I8: MH Öner, H Bağcı
A9: Doç. Dr. M. Hadin ÖNER | B9: Makale | C9: TÜRKİYEDE YABANCI VE KAMU SERMAYELİ KATILIM BANKALARININ FİNANSAL PERFORMANSININ LOPCOW TEMELLİ OCRA YÖNTEMİYLE ANALİZİ | D9: İslam Ekonomisi ve Finansı Dergisi (İEFD) | E9: 2025 | F9: TR DİZİN | G9: - | H9: 2 | I9: H Bağcı, MH Öner
A10: Doç. Dr. M. Hadin ÖNER | B10: Kitap Bölümü | C10: Digitalization and Transparent Brokerage in Islamic Capital Markets Kuveyt Turk Secirities Inc. | D10: Nobel Akademi | E10: 2025 | F10: Uluslararası | G10: - | H10: - | I10: MH Öner
A11: Doç. Dr. M. Hadin ÖNER | B11: Kitap Bölümü | C11: Jeopolitik Risklerin BIST Sigorta Endeksi Üzerindeki Etkisi: Türkiye Üzerine Ampirik Bir Analiz | D11: Özgür Yayınları | E11: 2025 | F11: Uluslararası | G11: - | H11: - | I11: MH Öner
A13: B. PROJELER
A14: Proje Yürütücüsü | B14: Proje Adı | C14: Proje No | D14: Destekleyen Kuruluş | E14: Başlangıç | F14: Bitiş | G14: Bütçe (₺) | H14: Durum | I14: Araştırmacılar | J14: Alan
A19: C. YILLIK PERFORMANS KARŞILAŞTIRMASI
A20: Gösterge | B20: 2023–24 | C20: 2024–25 | D20: 2025–26 Hedef | E20: 2025–26 Gerçekleşen | F20: Değişim | G20: Not
A21: Toplam Yayın Sayısı | B21: 2 | C21: 2 | D21: 5 | E21: 7 | F21: =E21-D21 -> 2
A22: TÜBİTAK Projesi (Kabul) | B22: 0 | C22: 1 | D22: 0 | E22: 0 | F22: =E22-D22 -> 0 | G22: Proje kabul edildi. Ama öğrenciler mezun olunca bitiremedler.
A23: BAP Projesi (Aktif) | B23: 0 | C23: 0 | D23: 0 | F23: =E23-D23 -> 0
A24: Toplam Proje Bütçesi (₺) | F24: =E24-D24 -> 0
A25: Atıf Sayısı (toplam) | B25: 14 | C25: 55 | D25: 9 | E25: 10 | F25: =E25-D25 -> 1

Sheet 3. Toplumsal Katkı
A1: ORTAKÖY MYO – 3. TOPLUMSAL KATKI FAALİYET TABLOSU | 2025–2026
A2: Akademik Yıl: 2025–2026 | Ortaköy Meslek Yüksekokulu
A3: A. SOSYAL SORUMLULUK VE TOPLUM HİZMETİ ETKİNLİKLERİ
A4: Bölüm / Program | B4: Etkinlik Adı | C4: Etkinlik Türü | D4: Sorumlu Öğretim Elemanı | E4: Tarih | F4: Yer | G4: Katılımcı Sayısı | H4: Memnuniyet (%) | I4: Paydaş Kuruluş | J4: Çıktı / Etki
A5: Mülkiyet Koruma ve Güvenlik/Sosyal Güvenlik | B5: Polis Günü Ziyareti | C5: Sosyal Sorumluluk | D5: Öğr. Gör. Dr. Zekeriya ÖZKAN Doç. Dr. M. Hadin ÖNER | E5: 46122 | F5: Ortaköy İlçe Emniyet Müd. | G5: 14 | I5: Ortaköy İlçe Eminyet Müd. | J5: Vatandaşlık Bilinci ve Eğitsel Sosyal Sorumluluk
A6: Mülkiyet Koruma ve Güvenlik/Sosyal Güvenlik | B6: Şehit Özkan Özkanlı adına Lokma Dağıtımı | C6: Sosyal Sorumluluk | D6: Öğr. Gör. Dr. Zekeriya ÖZKAN | E6: 13.03.2026 | F6: Merkez Camii Önü | G6: 11 | I6: Camii cemaati ve vatandaşlarımız | J6: Sosyal Sorumluluk
A7: Mülkiyet Koruma ve Güvenlik/Sosyal Güvenlik | B7: İlçe MEM'ne hayırlı olsun Ziyareti | C7: Kurumsal Sosyal Sorumluluk | D7: Öğr. Gör. Dr. Zekeriya ÖZKAN Doç. Dr. M. Hadin ÖNER | E7: 17.04.2026 | F7: Ortaköy İlçe MEM | G7: 4 | I7: Ortaköy İlçe MEM | J7: Kurumsal Sosyal Sorumluluk
A8: Mülkiyet Koruma ve Güvenlik/Sosyal Güvenlik | B8: Şehit Özkan Özkanlı Ailesini Ziyaret | C8: Sosyal Sorumluluk | D8: Öğr. Gör. Dr. Zekeriya ÖZKAN | E8: 20.04.2026 | F8: Çankaya Mah./Ortaköy | G8: 15 | I8: Şehidin Ailesi | J8: Kurumsal Sosyal Sorumluluk
A13: B. SANAYİ VE KURUM İŞBİRLİKLERİ
A14: Paydaş Kurum | B14: İşbirliği Türü | C14: Kapsam | D14: Başlangıç | E14: Bitiş / Yenileme | F14: Sorumlu Öğretim Elemanı | G14: Staj Öğrenci Sayısı | H14: İstihdam Edilen Mezun | I14: Durum | J14: Protokol No

Sheet 4. Yönetişim
A1: ORTAKÖY MYO – 4. YÖNETIŞIM FAALİYET TABLOSU | 2025–2026
A2: Akademik Yıl: 2025–2026 | Ortaköy Meslek Yüksekokulu
A3: A. KALİTE GÜVENCE VE AKREDİTASYON FAALİYETLERİ
A4: Faaliyet Adı | B4: Faaliyet Türü | C4: Sorumlu | D4: Başlangıç | E4: Bitiş | F4: Tamamlanma (%) | G4: Çıktı / Belge | H4: YÖKAK / MEDEK Kriteri | I4: Açıklama
A5: MEDEK Komisyonu | B5: MEDEK Akreditasyon | C5: Bölüm Kurulu | D5: 46143 | E5: Devam Ediyor.
A6: Öğrenci Memnuniyet Anketleri – Analiz | B6: Ölçme–Değerlendirme | C6: Kalite Birimi | D6: Şub 2026 | E6: Mar 2026 | F6: 100 | G6: Memnuniyet Analiz Raporu | H6: B.2.3 | I6: Tamamlandı.
A11: B. PERSONEL GELİŞİM FAALİYETLERİ
A12: Eğitim / Faaliyet Adı | B12: Türü | C12: Katılan Personel | D12: Tarih | E12: Süre (Saat) | F12: Düzenleyen | G12: Sertifika | H12: Memnuniyet (%) | I12: Kapsam
A13: YÖKAK Eğitimi: Kalite Güvence Sistemleri | B13: Hizmet İçi Eğitim | C13: 2 öğretim elemanı | D13: Şub 2026 | E13: 18 | F13: YÖKAK | G13: Evet | H13: 100 | I13: Akreditasyon, ÖDR hazırlık
A14: Bologna Süreci Bilgilendirme | B14: Kurumsal Eğitim | C14: Tüm öğretim elemanları | D14: Şub 2026 | E14: 4 | F14: Aksaray Ü. BKEK | G14: Hayır | I14: ÖÇ–PÇ ilişkilendirmesi
A16: C. KURUMSAL PERFORMANS GÖSTERGELERİ (Trend)
A17: Performans Göstergesi | B17: 2023–24 | C17: 2024–25 | D17: 2025–26 Hedef | E17: 2025–26 Gerçekleşen | F17: Sapma | G17: Açıklama
A18: Öğrenci Memnuniyet Ortalaması (%) | F18: =E18-D18 -> 0
A19: İşveren Memnuniyet Oranı (%) | F19: =E19-D19 -> 0
A20: Mezun İstihdam Oranı (%) | F20: =E20-D20 -> 0
A21: Öğretim Elemanı Başına Proje Sayısı | F21: =E21-D21 -> 0
A22: Yıllık Toplam Etkinlik Sayısı | B22: 6 | C22: 8 | D22: 15 | E22: 15 | F22: =E22-D22 -> 0
A23: Aktif Sanayi İşbirliği Protokolü | F23: =E23-D23 -> 0
A24: Personel Kişi Başı Eğitim Saati | F24: =E24-D24 -> 0
